BEGIN:VCALENDAR
VERSION:2.0
PRODID:-//ISEE Australian Chapter - ECPv6.6.4.2//NONSGML v1.0//EN
CALSCALE:GREGORIAN
METHOD:PUBLISH
X-WR-CALNAME:ISEE Australian Chapter
X-ORIGINAL-URL:https://iseeaustralia.org
X-WR-CALDESC:Events for ISEE Australian Chapter
REFRESH-INTERVAL;VALUE=DURATION:PT1H
X-Robots-Tag:noindex
X-PUBLISHED-TTL:PT1H
BEGIN:VTIMEZONE
TZID:Australia/Sydney
BEGIN:STANDARD
TZOFFSETFROM:+1100
TZOFFSETTO:+1000
TZNAME:AEST
DTSTART:20260404T160000
END:STANDARD
BEGIN:DAYLIGHT
TZOFFSETFROM:+1000
TZOFFSETTO:+1100
TZNAME:AEDT
DTSTART:20261003T160000
END:DAYLIGHT
END:VTIMEZONE
BEGIN:VEVENT
DTSTART;TZID=Australia/Sydney:20260422T173000
DTEND;TZID=Australia/Sydney:20260422T203000
DTSTAMP:20260422T201342
CREATED:20260407T033245Z
LAST-MODIFIED:20260408T004331Z
UID:2750-1776879000-1776889800@iseeaustralia.org
SUMMARY:Moranbah - Central Queensland - ISEE Australia Chapter Event
DESCRIPTION:Join us for this upcoming ISEE Chapter Event in Moranbah\, QLD. A great networking opportunity for the drill and blast industry in central Queensland and surrounds. During this event we will update attendees on any society news and offer a technical presentation on… \nBlast Fume: causes and challenges – Lee Julian\, Blast Ability \nWhen: Wednesday the 22nd of April 2026 \nWhere: Moranbah Workers Club Isaac Room – 49-55 Mills Ave – Moranbah QLD \nTime: 5:30pm – 8:30pm \nWho: Drill and Blast Community (Membership not required) \nSponsored by:
URL:https://iseeaustralia.org/event/moranbah-central-queensland-isee-australia-chapter-event/
LOCATION:Moranbah Workers Club\, 49-55 Mills Ave\, Moranbah\, QLD\, Australia
ATTACH;FMTTYPE=image/png:https://iseeaustralia.org/wp-content/uploads/2026/04/Moranbah.png
END:VEVENT
END:VCALENDAR